{
 "currentVersion": 10.91,
 "serviceDescription": "Mosaico IGM 25000 Sicilia",
 "name": "igm/Mosaico_IGM_25000",
 "description": "Mosaico IGM 25000 Sicilia",
 "extent": {
  "xmin": 220000,
  "ymin": 3930000,
  "xmax": 560000,
  "ymax": 4300000,
  "spatialReference": {
   "wkid": 25833,
   "latestWkid": 25833
  }
 },
 "initialExtent": {
  "xmin": 220000,
  "ymin": 3930000,
  "xmax": 560000,
  "ymax": 4300000,
  "spatialReference": {
   "wkid": 25833,
   "latestWkid": 25833
  }
 },
 "fullExtent": {
  "xmin": 220000,
  "ymin": 3930000,
  "xmax": 560000,
  "ymax": 4300000,
  "spatialReference": {
   "wkid": 25833,
   "latestWkid": 25833
  }
 },
 "hasMultidimensions": false,
 "pixelSizeX": 2.5,
 "pixelSizeY": 2.5,
 "datasetFormat": "FGDBR",
 "uncompressedSize": 60384000000,
 "blockWidth": 128,
 "blockHeight": 128,
 "compressionType": "LZ77",
 "bandNames": [
  "Band_1",
  "Band_2",
  "Band_3"
 ],
 "allowCopy": true,
 "allowAnalysis": true,
 "bandCount": 3,
 "pixelType": "U8",
 "minPixelSize": 0,
 "maxPixelSize": 0,
 "copyrightText": "",
 "serviceDataType": "esriImageServiceDataTypeThematic",
 "serviceSourceType": "esriImageServiceSourceTypeDataset",
 "minValues": [
  0,
  0,
  0
 ],
 "maxValues": [
  255,
  255,
  255
 ],
 "meanValues": [
  247.57108379853935,
  246.88950102782195,
  246.96932658704293
 ],
 "stdvValues": [
  29.097686727161665,
  30.21007565533206,
  30.500576676149375
 ],
 "objectIdField": "",
 "fields": [],
 "capabilities": "Image,Metadata,Mensuration",
 "defaultMosaicMethod": "Center",
 "allowedMosaicMethods": "",
 "sortField": "",
 "sortValue": null,
 "sortAscending": true,
 "mosaicOperator": "First",
 "defaultCompressionQuality": 75,
 "defaultResamplingMethod": "Bilinear",
 "maxImageHeight": 4100,
 "maxImageWidth": 15000,
 "allowRasterFunction": true,
 "rasterFunctionInfos": [
  {
   "name": "None",
   "description": "",
   "help": ""
  }
 ],
 "rasterTypeInfos": [
  {
   "name": "Raster Dataset",
   "description": "Supports all ArcGIS Raster Datasets",
   "help": ""
  }
 ],
 "mensurationCapabilities": "Basic",
 "hasHistograms": true,
 "hasColormap": false,
 "hasRasterAttributeTable": false,
 "minScale": 0,
 "maxScale": 0,
 "exportTilesAllowed": false,
 "supportsStatistics": false,
 "supportsAdvancedQueries": false,
 "editFieldsInfo": null,
 "ownershipBasedAccessControlForRasters": null,
 "allowComputeTiePoints": false,
 "useStandardizedQueries": true,
 "advancedQueryCapabilities": {
  "useStandardizedQueries": true,
  "supportsStatistics": false,
  "supportsOrderBy": false,
  "supportsDistinct": false,
  "supportsPagination": false
 },
 "spatialReference": {
  "wkid": 25833,
  "latestWkid": 25833
 }
}
