{
 "currentVersion": 10.91,
 "serviceDescription": "modelli_digitali/mdt_2008",
 "name": "modelli_digitali/mdt_2008",
 "description": "",
 "extent": {
  "xmin": 2244668.32145815,
  "ymin": 3929210.6765626892,
  "xmax": 2578322.32145815,
  "ymax": 4296148.676562689,
  "spatialReference": {
   "wkid": 102092,
   "latestWkid": 3004,
   "vcsWkid": 5214,
   "latestVcsWkid": 5214
  }
 },
 "initialExtent": {
  "xmin": 2244668.32145815,
  "ymin": 3929210.6765626892,
  "xmax": 2578322.32145815,
  "ymax": 4296148.676562689,
  "spatialReference": {
   "wkid": 102092,
   "latestWkid": 3004,
   "vcsWkid": 5214,
   "latestVcsWkid": 5214
  }
 },
 "fullExtent": {
  "xmin": 2244668.32145815,
  "ymin": 3929210.6765626892,
  "xmax": 2578322.32145815,
  "ymax": 4296148.676562689,
  "spatialReference": {
   "wkid": 102092,
   "latestWkid": 3004,
   "vcsWkid": 5214,
   "latestVcsWkid": 5214
  }
 },
 "heightModelInfo": {
  "heightModel": "gravity_related_height",
  "vertCRS": "Genoa_height",
  "heightUnit": "meter"
 },
 "hasMultidimensions": false,
 "pixelSizeX": 2,
 "pixelSizeY": 2,
 "datasetFormat": "FGDBR",
 "uncompressedSize": 122430331452,
 "blockWidth": 128,
 "blockHeight": 128,
 "compressionType": "LZ77",
 "bandNames": [
  "Band_1"
 ],
 "allowCopy": true,
 "allowAnalysis": true,
 "bandCount": 1,
 "pixelType": "F32",
 "minPixelSize": 0,
 "maxPixelSize": 0,
 "copyrightText": "",
 "serviceDataType": "esriImageServiceDataTypeGeneric",
 "serviceSourceType": "esriImageServiceSourceTypeDataset",
 "minValues": [
  -25
 ],
 "maxValues": [
  3319.419921875
 ],
 "meanValues": [
  415.94754914807567
 ],
 "stdvValues": [
  339.56323977765743
 ],
 "objectIdField": "",
 "fields": [],
 "capabilities": "Image,Metadata,Mensuration",
 "defaultMosaicMethod": "Center",
 "allowedMosaicMethods": "",
 "sortField": "",
 "sortValue": null,
 "sortAscending": true,
 "mosaicOperator": "First",
 "defaultCompressionQuality": 75,
 "defaultResamplingMethod": "Bilinear",
 "maxImageHeight": 4100,
 "maxImageWidth": 15000,
 "allowRasterFunction": true,
 "rasterFunctionInfos": [
  {
   "name": "None",
   "description": "",
   "help": ""
  }
 ],
 "rasterTypeInfos": [
  {
   "name": "Raster Dataset",
   "description": "Supports all ArcGIS Raster Datasets",
   "help": ""
  }
 ],
 "mensurationCapabilities": "Basic",
 "hasHistograms": true,
 "hasColormap": false,
 "hasRasterAttributeTable": false,
 "minScale": 0,
 "maxScale": 0,
 "exportTilesAllowed": false,
 "supportsStatistics": false,
 "supportsAdvancedQueries": false,
 "editFieldsInfo": null,
 "ownershipBasedAccessControlForRasters": null,
 "allowComputeTiePoints": false,
 "useStandardizedQueries": true,
 "advancedQueryCapabilities": {
  "useStandardizedQueries": true,
  "supportsStatistics": false,
  "supportsOrderBy": false,
  "supportsDistinct": false,
  "supportsPagination": false
 },
 "spatialReference": {
  "wkid": 102092,
  "latestWkid": 3004,
  "vcsWkid": 5214,
  "latestVcsWkid": 5214
 }
}
