{
 "currentVersion": 10.91,
 "serviceDescription": "modelli_digitali/mdt_2013",
 "name": "modelli_digitali/mdt_2013",
 "description": "",
 "extent": {
  "xmin": 224674,
  "ymin": 3929228,
  "xmax": 558320,
  "ymax": 4296652,
  "spatialReference": {
   "wkid": 25833,
   "latestWkid": 25833,
   "vcsWkid": 9389,
   "latestVcsWkid": 9389
  }
 },
 "initialExtent": {
  "xmin": 224674,
  "ymin": 3929228,
  "xmax": 558320,
  "ymax": 4296652,
  "spatialReference": {
   "wkid": 25833,
   "latestWkid": 25833,
   "vcsWkid": 9389,
   "latestVcsWkid": 9389
  }
 },
 "fullExtent": {
  "xmin": 224674,
  "ymin": 3929228,
  "xmax": 558320,
  "ymax": 4296652,
  "spatialReference": {
   "wkid": 25833,
   "latestWkid": 25833,
   "vcsWkid": 9389,
   "latestVcsWkid": 9389
  }
 },
 "heightModelInfo": {
  "heightModel": "gravity_related_height",
  "vertCRS": "EVRF_2019",
  "heightUnit": "meter"
 },
 "hasMultidimensions": false,
 "pixelSizeX": 2,
 "pixelSizeY": 2,
 "datasetFormat": "FGDBR",
 "uncompressedSize": 122589547904,
 "blockWidth": 128,
 "blockHeight": 128,
 "compressionType": "LZ77",
 "bandNames": [
  "Band_1"
 ],
 "allowCopy": true,
 "allowAnalysis": true,
 "bandCount": 1,
 "pixelType": "F32",
 "minPixelSize": 0,
 "maxPixelSize": 0,
 "copyrightText": "",
 "serviceDataType": "esriImageServiceDataTypeGeneric",
 "serviceSourceType": "esriImageServiceSourceTypeDataset",
 "minValues": [
  -9.710000038146973
 ],
 "maxValues": [
  3324.06005859375
 ],
 "meanValues": [
  421.05649800659853
 ],
 "stdvValues": [
  338.6571139385796
 ],
 "objectIdField": "",
 "fields": [],
 "capabilities": "Image,Metadata,Mensuration",
 "defaultMosaicMethod": "Center",
 "allowedMosaicMethods": "",
 "sortField": "",
 "sortValue": null,
 "sortAscending": true,
 "mosaicOperator": "First",
 "defaultCompressionQuality": 75,
 "defaultResamplingMethod": "Bilinear",
 "maxImageHeight": 4100,
 "maxImageWidth": 15000,
 "allowRasterFunction": true,
 "rasterFunctionInfos": [
  {
   "name": "None",
   "description": "",
   "help": ""
  }
 ],
 "rasterTypeInfos": [
  {
   "name": "Raster Dataset",
   "description": "Supports all ArcGIS Raster Datasets",
   "help": ""
  }
 ],
 "mensurationCapabilities": "Basic",
 "hasHistograms": true,
 "hasColormap": false,
 "hasRasterAttributeTable": false,
 "minScale": 0,
 "maxScale": 0,
 "exportTilesAllowed": false,
 "supportsStatistics": false,
 "supportsAdvancedQueries": false,
 "editFieldsInfo": null,
 "ownershipBasedAccessControlForRasters": null,
 "allowComputeTiePoints": false,
 "useStandardizedQueries": true,
 "advancedQueryCapabilities": {
  "useStandardizedQueries": true,
  "supportsStatistics": false,
  "supportsOrderBy": false,
  "supportsDistinct": false,
  "supportsPagination": false
 },
 "spatialReference": {
  "wkid": 25833,
  "latestWkid": 25833,
  "vcsWkid": 9389,
  "latestVcsWkid": 9389
 }
}
