{
 "currentVersion": 10.91,
 "serviceDescription": "Ortofoto IT 2000",
 "name": "ortofoto/Ortofoto_IT2000",
 "description": "Ortofoto IT 2000",
 "extent": {
  "xmin": 2244519.9783660006,
  "ymin": 3929160,
  "xmax": 2578399.9783660006,
  "ymax": 4296720,
  "spatialReference": {
   "wkid": 102092,
   "latestWkid": 3004
  }
 },
 "initialExtent": {
  "xmin": 2244519.9783660006,
  "ymin": 3929160,
  "xmax": 2578399.9783660006,
  "ymax": 4296720,
  "spatialReference": {
   "wkid": 102092,
   "latestWkid": 3004
  }
 },
 "fullExtent": {
  "xmin": 2244519.9783660006,
  "ymin": 3929160,
  "xmax": 2578399.9783660006,
  "ymax": 4296720,
  "spatialReference": {
   "wkid": 102092,
   "latestWkid": 3004
  }
 },
 "hasMultidimensions": false,
 "pixelSizeX": 1,
 "pixelSizeY": 1,
 "datasetFormat": "FGDBR",
 "uncompressedSize": 368162798400,
 "blockWidth": 128,
 "blockHeight": 128,
 "compressionType": "LZ77",
 "bandNames": [
  "Band_1",
  "Band_2",
  "Band_3"
 ],
 "allowCopy": true,
 "allowAnalysis": true,
 "bandCount": 3,
 "pixelType": "U8",
 "minPixelSize": 0,
 "maxPixelSize": 0,
 "copyrightText": "",
 "serviceDataType": "esriImageServiceDataTypeRGB",
 "serviceSourceType": "esriImageServiceSourceTypeDataset",
 "minValues": [
  0,
  0,
  0
 ],
 "maxValues": [
  255,
  255,
  255
 ],
 "meanValues": [
  102.14786276558036,
  111.79174228010665,
  108.88485539439992
 ],
 "stdvValues": [
  51.216845521649034,
  43.16815470721992,
  41.96375531705739
 ],
 "objectIdField": "",
 "fields": [],
 "capabilities": "Image,Metadata,Mensuration",
 "defaultMosaicMethod": "Center",
 "allowedMosaicMethods": "",
 "sortField": "",
 "sortValue": null,
 "sortAscending": true,
 "mosaicOperator": "First",
 "defaultCompressionQuality": 75,
 "defaultResamplingMethod": "Bilinear",
 "maxImageHeight": 4100,
 "maxImageWidth": 15000,
 "allowRasterFunction": true,
 "rasterFunctionInfos": [
  {
   "name": "None",
   "description": "",
   "help": ""
  }
 ],
 "rasterTypeInfos": [
  {
   "name": "Raster Dataset",
   "description": "Supports all ArcGIS Raster Datasets",
   "help": ""
  }
 ],
 "mensurationCapabilities": "Basic,3D",
 "hasHistograms": true,
 "hasColormap": false,
 "hasRasterAttributeTable": false,
 "minScale": 0,
 "maxScale": 0,
 "exportTilesAllowed": false,
 "supportsStatistics": false,
 "supportsAdvancedQueries": false,
 "editFieldsInfo": null,
 "ownershipBasedAccessControlForRasters": null,
 "allowComputeTiePoints": false,
 "useStandardizedQueries": true,
 "advancedQueryCapabilities": {
  "useStandardizedQueries": true,
  "supportsStatistics": false,
  "supportsOrderBy": false,
  "supportsDistinct": false,
  "supportsPagination": false
 },
 "spatialReference": {
  "wkid": 102092,
  "latestWkid": 3004
 }
}
