View In:
ArcGIS JavaScript
ArcGIS Online Map Viewer
ArcGIS Earth
ArcMap
View Footprint In:
ArcGIS Online Map Viewer
Service Description: mdt_40m_it2000
Name: modelli_digitali/mdt_40m_it2000
Description: mdt_40m_it2000
Single Fused Map Cache: false
Extent:
XMin: 2245780.0
YMin: 3930340.0
XMax: 2578420.0
YMax: 4296540.0
Spatial Reference: 0
(0)
LatestVCSWkid(0)
Initial Extent:
XMin: 2245780.0
YMin: 3930340.0
XMax: 2578420.0
YMax: 4296540.0
Spatial Reference: 0
(0)
LatestVCSWkid(0)
Full Extent:
XMin: 2245780.0
YMin: 3930340.0
XMax: 2578420.0
YMax: 4296540.0
Spatial Reference: 0
(0)
LatestVCSWkid(0)
Pixel Size X: 40.0
Pixel Size Y: 40.0
Band Count: 1
Pixel Type: F32
RasterFunction Infos: {"rasterFunctionInfos": [{
"name": "None",
"description": "",
"help": ""
}]}
Mensuration Capabilities: Basic
Has Histograms: true
Has Colormap: false
Has Multi Dimensions : false
Rendering Rule:
Min Scale: 0
Max Scale: 0
Copyright Text:
Service Data Type: esriImageServiceDataTypeGeneric
Min Values: -15.734000205994
Max Values: 3310.2729492188
Mean Values: 425.55993986322
Standard Deviation Values: 338.02584325204
Object ID Field:
Fields:
None
Default Mosaic Method: Center
Allowed Mosaic Methods:
SortField:
SortValue: null
Mosaic Operator: First
Default Compression Quality: 75
Default Resampling Method: Bilinear
Max Record Count: null
Max Image Height: 4100
Max Image Width: 15000
Max Download Image Count: null
Max Mosaic Image Count: null
Allow Raster Function: true
Allow Copy: true
Allow Analysis: true
Allow Compute TiePoints: false
Supports Statistics: false
Supports Advanced Queries: false
Use StandardizedQueries: true
Raster Type Infos:
Name: Raster Dataset
Description: Supports all ArcGIS Raster Datasets
Help:
Has Raster Attribute Table: false
Edit Fields Info: null
Ownership Based AccessControl For Rasters: null
Child Resources:
Info
Histograms
Statistics
Key Properties
Legend
Raster Function Infos
Supported Operations:
Export Image
Identify
Measure
Compute Histograms
Compute Statistics Histograms
Get Samples
Compute Class Statistics
Query Boundary
Compute Pixel Location
Compute Angles
Validate
Project