View In:
ArcGIS JavaScript
ArcGIS Online Map Viewer
ArcGIS Earth
ArcMap
View Footprint In:
ArcGIS Online Map Viewer
Service Description: Mosaico IGM 25000 Sicilia
Name: igm/Mosaico_IGM_25000
Description: Mosaico IGM 25000 Sicilia
Single Fused Map Cache: false
Extent:
XMin: 220000.0
YMin: 3930000.0
XMax: 560000.0
YMax: 4300000.0
Spatial Reference: 25833
(25833)
LatestVCSWkid(0)
Initial Extent:
XMin: 220000.0
YMin: 3930000.0
XMax: 560000.0
YMax: 4300000.0
Spatial Reference: 25833
(25833)
LatestVCSWkid(0)
Full Extent:
XMin: 220000.0
YMin: 3930000.0
XMax: 560000.0
YMax: 4300000.0
Spatial Reference: 25833
(25833)
LatestVCSWkid(0)
Pixel Size X: 2.5
Pixel Size Y: 2.5
Band Count: 3
Pixel Type: U8
RasterFunction Infos: {"rasterFunctionInfos": [{
"name": "None",
"description": "",
"help": ""
}]}
Mensuration Capabilities: Basic
Has Histograms: true
Has Colormap: false
Has Multi Dimensions : false
Rendering Rule:
Min Scale: 0
Max Scale: 0
Copyright Text:
Service Data Type: esriImageServiceDataTypeThematic
Min Values: 0, 0, 0
Max Values: 255, 255, 255
Mean Values: 247.57108379853935, 246.88950102782195, 246.96932658704293
Standard Deviation Values: 29.097686727161665, 30.21007565533206, 30.500576676149375
Object ID Field:
Fields:
None
Default Mosaic Method: Center
Allowed Mosaic Methods:
SortField:
SortValue: null
Mosaic Operator: First
Default Compression Quality: 75
Default Resampling Method: Bilinear
Max Record Count: null
Max Image Height: 4100
Max Image Width: 15000
Max Download Image Count: null
Max Mosaic Image Count: null
Allow Raster Function: true
Allow Copy: true
Allow Analysis: true
Allow Compute TiePoints: false
Supports Statistics: false
Supports Advanced Queries: false
Use StandardizedQueries: true
Raster Type Infos:
Name: Raster Dataset
Description: Supports all ArcGIS Raster Datasets
Help:
Has Raster Attribute Table: false
Edit Fields Info: null
Ownership Based AccessControl For Rasters: null
Child Resources:
Info
Histograms
Statistics
Key Properties
Legend
Raster Function Infos
Supported Operations:
Export Image
Identify
Measure
Compute Histograms
Compute Statistics Histograms
Get Samples
Compute Class Statistics
Query Boundary
Compute Pixel Location
Compute Angles
Validate
Project