View In:
ArcGIS JavaScript
ArcGIS Online Map Viewer
ArcGIS Earth
ArcMap
View Footprint In:
ArcGIS Online Map Viewer
Service Description: modelli_digitali/mdt_2008
Name: modelli_digitali/mdt_2008
Description:
Single Fused Map Cache: false
Extent:
XMin: 2244668.32145815
YMin: 3929210.6765626892
XMax: 2578322.32145815
YMax: 4296148.676562689
Spatial Reference: 102092
(3004)
VCSWkid(5214)
LatestVCSWkid(5214)
Initial Extent:
XMin: 2244668.32145815
YMin: 3929210.6765626892
XMax: 2578322.32145815
YMax: 4296148.676562689
Spatial Reference: 102092
(3004)
VCSWkid(5214)
LatestVCSWkid(5214)
Full Extent:
XMin: 2244668.32145815
YMin: 3929210.6765626892
XMax: 2578322.32145815
YMax: 4296148.676562689
Spatial Reference: 102092
(3004)
VCSWkid(5214)
LatestVCSWkid(5214)
Pixel Size X: 2.0
Pixel Size Y: 2.0
Band Count: 1
Pixel Type: F32
RasterFunction Infos: {"rasterFunctionInfos": [{
"name": "None",
"description": "",
"help": ""
}]}
Mensuration Capabilities: Basic
Has Histograms: true
Has Colormap: false
Has Multi Dimensions : false
Rendering Rule:
Min Scale: 0
Max Scale: 0
Copyright Text:
Service Data Type: esriImageServiceDataTypeGeneric
Min Values: -25
Max Values: 3319.419921875
Mean Values: 415.94754914807567
Standard Deviation Values: 339.56323977765743
Object ID Field:
Fields:
None
Default Mosaic Method: Center
Allowed Mosaic Methods:
SortField:
SortValue: null
Mosaic Operator: First
Default Compression Quality: 75
Default Resampling Method: Bilinear
Max Record Count: null
Max Image Height: 4100
Max Image Width: 15000
Max Download Image Count: null
Max Mosaic Image Count: null
Allow Raster Function: true
Allow Copy: true
Allow Analysis: true
Allow Compute TiePoints: false
Supports Statistics: false
Supports Advanced Queries: false
Use StandardizedQueries: true
Raster Type Infos:
Name: Raster Dataset
Description: Supports all ArcGIS Raster Datasets
Help:
Has Raster Attribute Table: false
Edit Fields Info: null
Ownership Based AccessControl For Rasters: null
Child Resources:
Info
Histograms
Statistics
Key Properties
Legend
Raster Function Infos
Supported Operations:
Export Image
Identify
Measure
Compute Histograms
Compute Statistics Histograms
Get Samples
Compute Class Statistics
Query Boundary
Compute Pixel Location
Compute Angles
Validate
Project