View In:
ArcGIS JavaScript
ArcGIS Online Map Viewer
ArcGIS Earth
ArcMap
View Footprint In:
ArcGIS Online Map Viewer
Service Description: modelli_digitali/mdt_2013
Name: modelli_digitali/mdt_2013
Description:
Single Fused Map Cache: false
Extent:
XMin: 224674.0
YMin: 3929228.0
XMax: 558320.0
YMax: 4296652.0
Spatial Reference: 25833
(25833)
VCSWkid(9389)
LatestVCSWkid(9389)
Initial Extent:
XMin: 224674.0
YMin: 3929228.0
XMax: 558320.0
YMax: 4296652.0
Spatial Reference: 25833
(25833)
VCSWkid(9389)
LatestVCSWkid(9389)
Full Extent:
XMin: 224674.0
YMin: 3929228.0
XMax: 558320.0
YMax: 4296652.0
Spatial Reference: 25833
(25833)
VCSWkid(9389)
LatestVCSWkid(9389)
Pixel Size X: 2.0
Pixel Size Y: 2.0
Band Count: 1
Pixel Type: F32
RasterFunction Infos: {"rasterFunctionInfos": [{
"name": "None",
"description": "",
"help": ""
}]}
Mensuration Capabilities: Basic
Has Histograms: true
Has Colormap: false
Has Multi Dimensions : false
Rendering Rule:
Min Scale: 0
Max Scale: 0
Copyright Text:
Service Data Type: esriImageServiceDataTypeGeneric
Min Values: -9.710000038146973
Max Values: 3324.06005859375
Mean Values: 421.05649800659853
Standard Deviation Values: 338.6571139385796
Object ID Field:
Fields:
None
Default Mosaic Method: Center
Allowed Mosaic Methods:
SortField:
SortValue: null
Mosaic Operator: First
Default Compression Quality: 75
Default Resampling Method: Bilinear
Max Record Count: null
Max Image Height: 4100
Max Image Width: 15000
Max Download Image Count: null
Max Mosaic Image Count: null
Allow Raster Function: true
Allow Copy: true
Allow Analysis: true
Allow Compute TiePoints: false
Supports Statistics: false
Supports Advanced Queries: false
Use StandardizedQueries: true
Raster Type Infos:
Name: Raster Dataset
Description: Supports all ArcGIS Raster Datasets
Help:
Has Raster Attribute Table: false
Edit Fields Info: null
Ownership Based AccessControl For Rasters: null
Child Resources:
Info
Histograms
Statistics
Key Properties
Legend
Raster Function Infos
Supported Operations:
Export Image
Identify
Measure
Compute Histograms
Compute Statistics Histograms
Get Samples
Compute Class Statistics
Query Boundary
Compute Pixel Location
Compute Angles
Validate
Project