View In:
ArcGIS JavaScript
ArcGIS Online Map Viewer
ArcGIS Earth
ArcMap
View Footprint In:
ArcGIS Online Map Viewer
Service Description: Ortofoto IT 2000
Name: ortofoto/Ortofoto_IT2000
Description: Ortofoto IT 2000
Single Fused Map Cache: false
Extent:
XMin: 2244519.9783660006
YMin: 3929160.0
XMax: 2578399.9783660006
YMax: 4296720.0
Spatial Reference: 102092
(3004)
LatestVCSWkid(0)
Initial Extent:
XMin: 2244519.9783660006
YMin: 3929160.0
XMax: 2578399.9783660006
YMax: 4296720.0
Spatial Reference: 102092
(3004)
LatestVCSWkid(0)
Full Extent:
XMin: 2244519.9783660006
YMin: 3929160.0
XMax: 2578399.9783660006
YMax: 4296720.0
Spatial Reference: 102092
(3004)
LatestVCSWkid(0)
Pixel Size X: 1.0
Pixel Size Y: 1.0
Band Count: 3
Pixel Type: U8
RasterFunction Infos: {"rasterFunctionInfos": [{
"name": "None",
"description": "",
"help": ""
}]}
Mensuration Capabilities: Basic,3D
Has Histograms: true
Has Colormap: false
Has Multi Dimensions : false
Rendering Rule:
Min Scale: 0
Max Scale: 0
Copyright Text:
Service Data Type: esriImageServiceDataTypeRGB
Min Values: 0, 0, 0
Max Values: 255, 255, 255
Mean Values: 102.14786276558036, 111.79174228010665, 108.88485539439992
Standard Deviation Values: 51.216845521649034, 43.16815470721992, 41.96375531705739
Object ID Field:
Fields:
None
Default Mosaic Method: Center
Allowed Mosaic Methods:
SortField:
SortValue: null
Mosaic Operator: First
Default Compression Quality: 75
Default Resampling Method: Bilinear
Max Record Count: null
Max Image Height: 4100
Max Image Width: 15000
Max Download Image Count: null
Max Mosaic Image Count: null
Allow Raster Function: true
Allow Copy: true
Allow Analysis: true
Allow Compute TiePoints: false
Supports Statistics: false
Supports Advanced Queries: false
Use StandardizedQueries: true
Raster Type Infos:
Name: Raster Dataset
Description: Supports all ArcGIS Raster Datasets
Help:
Has Raster Attribute Table: false
Edit Fields Info: null
Ownership Based AccessControl For Rasters: null
Child Resources:
Info
Histograms
Statistics
Key Properties
Legend
Raster Function Infos
Supported Operations:
Export Image
Identify
Measure
Compute Histograms
Compute Statistics Histograms
Get Samples
Compute Class Statistics
Query Boundary
Compute Pixel Location
Compute Angles
Validate
Project